Workbook
Name A_Application_Delivery: #REF!
Name A_Application_Delivery_factor: #REF!
Name A_CMM: #REF!
Name A_DC_AMORTIZATION: #REF!
Name A_DC_CAPACITY: #REF!
Name A_DC_CapEx: #REF!
Name A_DC_LOAD: #REF!
Name A_DC_LOAD_CAPACITY: #REF!
Name A_ENERGY: #REF!
Name A_NAME: 'Site Assessment'!$A$1
Name A_NOS_SOURCE: 'Site Assessment'!$K$61
Name A_NW_Factor: 'Site Assessment'!$K$59
Name A_NW_REDUNDANCY: 'Site Assessment'!$K$59
Name A_NW_SOURCE: 'Site Assessment'!$K$60
Name A_NW_SUPPLIER: 'Site Assessment'!$C$60
Name A_PUE: #REF!
Name A_REFRESH: #REF!
Name A_S1: 'Site Assessment'!$O$59
Name A_S2: 'Site Assessment'!$O$60
Name A_S3: #REF!
Name A_SERVER_ASP: #REF!
Name A_TOR_SOURCE: 'Site Assessment'!$K$60
Name A_UTILIZATION: #REF!
Name B_S1: #REF!
Name B_S2: #REF!
Name B_S3: #REF!
Name B_S5: #REF!
Name B_TRANSFORM_TIMEFRAME: #REF!
Name CODE: #REF!
Name SERVER_COUNT: 'Site Assessment'!$C$14
Name Virtualized_A: 'Site Assessment'!$K$21

Sheet Revision, Licence & Use
B5: Revision History
B6: Date | C6: Version | D6: Description
B7: 43013 | C7: 1.0 | D7: Created first final.
B8: 43395 | C8: 2 | D8: Revised formatting and content. Published.
B9: 43431 | C9: 2.1 | D9: Minor revisions.
B10: 43482 | C10: 2.2 | D10: Added rolling and concentrated load Acceptable level of 4.5kN.
B11: 43634 | C11: 2.3 | D11: Corrected issue in Self Assessment Status rollup for Site 2 and Site 3 assessments.
B12: 43866 | C12: 2.4 | D12: Added clarification to those requirements that must have an 'Optimum' or 'Acceptable' result and for 'Considerations' information only. Added to Considerations > Efficiency > the 'Site Operations' attribute.
B13: 43873 | C13: 2020 | D13: Final for publication
B14: 44053 | C14: 2020-A | D14: Final for publication
B15: 44378 | C15: 2.5 | D15: Revision to allow for air containment and aisle widths to be selected as 'Not Applicable' due to use of RDHx
B16: 44943 | C16: 2.6 | D16: Revision to the 'Checklist' worksheet for the revised approval process and minor edits 1) Added 'IT Technical Space' to 'White Space' headings to align with OCP Ready Requirements Matrix -2020A 2) Added note to 'Checklist' worksheet cell B28 & B29 'not required for re-assessment,refers to rows 22-23'
B17: This work is licensed under a Creative Commons Attribution 4.0 International License.

Sheet CHECKLIST
B1: OCP READY Colo Site Assessment Checklist
B2: COLO SOLUTION PROVIDER
B3: CITY, STATE ZIP
B4: ADDRESS
B5: CONTACT NAME/EMAIL:
B6: Personal Information Release:
B7: "By making contributions, I acknowledge and accept OCP’s Privacy Policy. I further represent that I have all rights necessary to provide any personal information for myself and others included in my contributions.” | D7: Acknowledgement Required
B9: LICENSE & MEMBERSHIP REQUIREMENT
B10: Submitter must be an OCP member in good standing. | D10: Acknowledgement Required
B11: Submitter has signed Colo Solution Provider Agreement | D11: Acknowledgement Required
B12: Link to Colo Solution Provider Agreement
B13: Submitter has executed the Copyright License Agreement (CRLA). | D13: Acknowledgement Required
B14: Link to Copyright License Agreement (CRLA)
B15: Submitter has signed a OCP Ready™ Certification Mark License Agreement | D15: Acknowledgement Required
B16: Link to OCP READY™ Certification Mark License Agreement
B17: Colo has a landing page on their website for inbound OCP leads to provide cohesive branding and experience | D17: Acknowledgement Required
B19: Facility/Site Specific Requirement | C19: ='Site Assessment'!C1 -> [Site #1 specific name] | D19: ='Site Assessment'!O1 -> [Site #2 specific name] | E19: ='Site Assessment'!AA1 -> [Site #3 specific name]
C20: ='Site Assessment'!C2 -> NOT COMPLETED | D20: ='Site Assessment'!O2 -> NOT COMPLETED | E20: ='Site Assessment'!AA2 -> NOT COMPLETED
B21: Data Center Location Name | C21: ='Site Assessment'!C3 -> 0 | D21: ='Site Assessment'!O3 -> 0 | E21: ='Site Assessment'!AA3 -> 0
B22: Date Original Assessment was Completed: | C22: ='Site Assessment'!C10 -> 0 | D22: ='Site Assessment'!O10 -> 0 | E22: ='Site Assessment'!AA10 -> 0
B23: Re-Assessment Date: | C23: ='Site Assessment'!C11 -> 0 | D23: ='Site Assessment'!O11 -> 0 | E23: ='Site Assessment'!AA11 -> 0
B25: Submitter acknowledges that the assessment is reviewed every 12 months and is accurately reported in the Self Assessment section: | C25: Acknowledgement Required | D25: Acknowledgement Required | E25: Acknowledgement Required
B26: Self-assessment document and supporting information has been presented to the Data Center Facilities Project | C26: Acknowledgement Required | D26: Acknowledgement Required | E26: Acknowledgement Required
B27: The DCF Project Lead approves the self assessment checklist | C27: <Approval Needed> | D27: <Approval Needed> | E27: <Approval Needed>
B28: The Foundation’s DCF Incubation Committee representative approves the self assessment checklist (not required for re-assessment,refers to rows 22-23) | C28: <Approval Needed> | D28: <Approval Needed> | E28: <Approval Needed>
B29: The Foundation’s representative approves the self assessment checklist (not required for re-assessment,refers to rows 22-23) | C29: <Approval Needed> | D29: <Approval Needed> | E29: <Approval Needed>

Sheet Site Assessment
A1: OCP Ready Colo Facility Site Assessment | C1: [Site #1 specific name] | O1: [Site #2 specific name] | AA1: [Site #3 specific name]
A2: Self Assessment Status: | C2: =IF(SUM(E12:F12)=0,"COMPLETE-MEETS REQUIREMENTS",IF(E12>0,"NOT COMPLETED","COMPLETE-DOES NOT MEET")) -> NOT COMPLETED | O2: =IF(SUM(Q12:R12)=0,"COMPLETE-MEETS REQUIREMENTS",IF(Q12>0,"NOT COMPLETED","COMPLETE-DOES NOT MEET")) -> NOT COMPLETED | AA2: =IF(SUM(AC12:AD12)=0,"COMPLETE-MEETS REQUIREMENTS",IF(AC12>0,"NOT COMPLETED","COMPLETE-DOES NOT MEET")) -> NOT COMPLETED
A3: Data Center Location Name
A4: Data Center Location Address
A5: Site Description: IT Technical Space (White Space) Area
A6: Site Description: Critical IT Power
A7: Site Description: Network Provider Availability
A8: Site Description: Facility Features
A9: Site Description: Other Services
A10: Date Original Assessment is Completed
A11: Re-Assessment Date:
A12: REQUIREMENTS - Attribute (Must have an Optimum or Acceptable result) | C12: Parameter | E12: =SUM(E14:E78) -> 68 | F12: =SUM(F14:F78) -> 0 | K12: Result | M12: Notes | O12: Parameter | Q12: =SUM(Q14:Q78) -> 55 | R12: =SUM(R14:R78) -> 0 | W12: Result | Y12: Notes | AA12: Parameter | AC12: =SUM(AC14:AC78) -> 55 | AD12: =SUM(AD14:AD78) -> 0 | AI12: Result | AK12: Notes
A13: ACCESS
A14: Building Access | C14: 0. Selection Required | E14: =COUNTIF(C14,"<=1),""0") -> 1 | F14: 0 | H14: Optimum | I14: Acceptable | J14: Exception | K14: =OFFSET(G14,0,LEFT(C14,1)) -> 0 | O14: 0. Selection Required | Q14: =COUNTIF(O14,"<=1),""0") -> 1 | R14: 0 | T14: Optimum | U14: Acceptable | V14: Exception | W14: =OFFSET(S14,0,LEFT(O14,1)) -> 0 | AA14: 0. Selection Required | AC14: =COUNTIF(AA14,"<=1),""0") -> 1 | AD14: 0 | AF14: Optimum | AG14: Acceptable | AH14: Exception | AI14: =OFFSET(AE14,0,LEFT(AA14,1)) -> 0
A15: Delivery pathway, Loading dock to Goods in | C15: 0. Selection Required | E15: =COUNTIF(C15,"<=1),""0") -> 1 | F15: 0 | H15: Optimum | I15: Acceptable | J15: Exception | K15: =OFFSET(G15,0,LEFT(C15,1)) -> 0 | O15: 0. Selection Required | Q15: =COUNTIF(O15,"<=1),""0") -> 1 | R15: 0 | T15: Optimum | U15: Acceptable | V15: Exception | W15: =OFFSET(S15,0,LEFT(O15,1)) -> 0 | AA15: 0. Selection Required | AC15: =COUNTIF(AA15,"<=1),""0") -> 1 | AD15: 0 | AF15: Optimum | AG15: Acceptable | AH15: Exception | AI15: =OFFSET(AE15,0,LEFT(AA15,1)) -> 0
A16: Delivery pathway, Goods in to White space | C16: 0. Selection Required | E16: =COUNTIF(C16,"<=1),""0") -> 1 | F16: 0 | H16: Optimum | I16: Acceptable | J16: Exception | K16: =OFFSET(G16,0,LEFT(C16,1)) -> 0 | O16: 0. Selection Required | Q16: =COUNTIF(O16,"<=1),""0") -> 1 | R16: 0 | T16: Optimum | U16: Acceptable | V16: Exception | W16: =OFFSET(S16,0,LEFT(O16,1)) -> 0 | AA16: 0. Selection Required | AC16: =COUNTIF(AA16,"<=1),""0") -> 1 | AD16: 0 | AF16: Optimum | AG16: Acceptable | AH16: Exception | AI16: =OFFSET(AE16,0,LEFT(AA16,1)) -> 0
A17: Corridor floor rolling load | C17: 0. Selection Required | E17: =COUNTIF(C17,"<=1),""0") -> 1 | F17: 0 | H17: Optimum | I17: Acceptable | J17: Exception | K17: =OFFSET(G17,0,LEFT(C17,1)) -> 0 | O17: 0. Selection Required | Q17: =COUNTIF(O17,"<=1),""0") -> 1 | R17: 0 | T17: Optimum | U17: Acceptable | V17: Exception | W17: =OFFSET(S17,0,LEFT(O17,1)) -> 0 | AA17: 0. Selection Required | AC17: =COUNTIF(AA17,"<=1),""0") -> 1 | AD17: 0 | AF17: Optimum | AG17: Acceptable | AH17: Exception | AI17: =OFFSET(AE17,0,LEFT(AA17,1)) -> 0
A18: Unboxing/pre-staging/storage area floor uniform load | C18: 0. Selection Required | E18: =COUNTIF(C18,"<=1),""0") -> 1 | F18: 0 | H18: Optimum | I18: Acceptable | J18: Exception | K18: =OFFSET(G18,0,LEFT(C18,1)) -> 0 | O18: 0. Selection Required | Q18: =COUNTIF(O18,"<=1),""0") -> 1 | R18: 0 | T18: Optimum | U18: Acceptable | V18: Exception | W18: =OFFSET(S18,0,LEFT(O18,1)) -> 0 | AA18: 0. Selection Required | AC18: =COUNTIF(AA18,"<=1),""0") -> 1 | AD18: 0 | AF18: Optimum | AG18: Acceptable | AH18: Exception | AI18: =OFFSET(AE18,0,LEFT(AA18,1)) -> 0
A19: Unboxing/pre-staging/storage area floor concentrated load | C19: 0. Selection Required | E19: =COUNTIF(C19,"<=1),""0") -> 1 | F19: 0 | H19: Optimum | I19: Acceptable | J19: Exception | K19: =OFFSET(G19,0,LEFT(C19,1)) -> 0 | O19: 0. Selection Required | Q19: =COUNTIF(O19,"<=1),""0") -> 1 | R19: 0 | T19: Optimum | U19: Acceptable | V19: Exception | W19: =OFFSET(S19,0,LEFT(O19,1)) -> 0 | AA19: 0. Selection Required | AC19: =COUNTIF(AA19,"<=1),""0") -> 1 | AD19: 0 | AF19: Optimum | AG19: Acceptable | AH19: Exception | AI19: =OFFSET(AE19,0,LEFT(AA19,1)) -> 0
A20: RAMPS
A21: Gradient | C21: 0. Selection Required | E21: =COUNTIF(C21,"<=1),""0") -> 1 | F21: 0 | H21: Optimum | I21: Acceptable | J21: Exception | K21: =OFFSET(G21,0,LEFT(C21,1)) -> 0 | O21: 0. Selection Required | Q21: =COUNTIF(O21,"<=1),""0") -> 1 | R21: 0 | T21: Optimum | U21: Acceptable | V21: Exception | W21: =OFFSET(S21,0,LEFT(O21,1)) -> 0 | AA21: 0. Selection Required | AC21: =COUNTIF(AA21,"<=1),""0") -> 1 | AD21: 0 | AF21: Optimum | AG21: Acceptable | AH21: Exception | AI21: =OFFSET(AE21,0,LEFT(AA21,1)) -> 0
A22: Width | C22: 0. Selection Required | E22: =COUNTIF(C22,"<=1),""0") -> 1 | F22: 0 | H22: Optimum | I22: Acceptable | J22: Exception | K22: =OFFSET(G22,0,LEFT(C22,1)) -> 0 | O22: 0. Selection Required | Q22: =COUNTIF(O22,"<=1),""0") -> 1 | R22: 0 | T22: Optimum | U22: Acceptable | V22: Exception | W22: =OFFSET(S22,0,LEFT(O22,1)) -> 0 | AA22: 0. Selection Required | AC22: =COUNTIF(AA22,"<=1),""0") -> 1 | AD22: 0 | AF22: Optimum | AG22: Acceptable | AH22: Exception | AI22: =OFFSET(AE22,0,LEFT(AA22,1)) -> 0
A23: Landing area | C23: 0. Selection Required | E23: =COUNTIF(C23,"<=1),""0") -> 1 | F23: 0 | H23: Optimum | I23: Acceptable | J23: Exception | K23: =OFFSET(G23,0,LEFT(C23,1)) -> 0 | O23: 0. Selection Required | Q23: =COUNTIF(O23,"<=1),""0") -> 1 | R23: 0 | T23: Optimum | U23: Acceptable | V23: Exception | W23: =OFFSET(S23,0,LEFT(O23,1)) -> 0 | AA23: 0. Selection Required | AC23: =COUNTIF(AA23,"<=1),""0") -> 1 | AD23: 0 | AF23: Optimum | AG23: Acceptable | AH23: Exception | AI23: =OFFSET(AE23,0,LEFT(AA23,1)) -> 0
A24: Railings | C24: 0. Selection Required | E24: =COUNTIF(C24,"<=1),""0") -> 1 | F24: 0 | H24: Optimum | I24: Acceptable | J24: Exception | K24: =OFFSET(G24,0,LEFT(C24,1)) -> 0 | O24: 0. Selection Required | Q24: =COUNTIF(O24,"<=1),""0") -> 1 | R24: 0 | T24: Optimum | U24: Acceptable | V24: Exception | W24: =OFFSET(S24,0,LEFT(O24,1)) -> 0 | AA24: 0. Selection Required | AC24: =COUNTIF(AA24,"<=1),""0") -> 1 | AD24: 0 | AF24: Optimum | AG24: Acceptable | AH24: Exception | AI24: =OFFSET(AE24,0,LEFT(AA24,1)) -> 0
A25: LIFTS / ELEVATORS
A26: Weight loading | C26: 0. Selection Required | E26: =COUNTIF(C26,"<=1),""0") -> 1 | F26: 0 | H26: Optimum | I26: Acceptable | J26: Exception | K26: =OFFSET(G26,0,LEFT(C26,1)) -> 0 | O26: 0. Selection Required | Q26: =COUNTIF(O26,"<=1),""0") -> 1 | R26: 0 | T26: Optimum | U26: Acceptable | V26: Exception | W26: =OFFSET(S26,0,LEFT(O26,1)) -> 0 | AA26: 0. Selection Required | AC26: =COUNTIF(AA26,"<=1),""0") -> 1 | AD26: 0 | AF26: Optimum | AG26: Acceptable | AH26: Exception | AI26: =OFFSET(AE26,0,LEFT(AA26,1)) -> 0
A27: Door height | C27: 0. Selection Required | E27: =COUNTIF(C27,"<=1),""0") -> 1 | F27: 0 | H27: Optimum | I27: Acceptable | J27: Exception | K27: =OFFSET(G27,0,LEFT(C27,1)) -> 0 | O27: 0. Selection Required | Q27: =COUNTIF(O27,"<=1),""0") -> 1 | R27: 0 | T27: Optimum | U27: Acceptable | V27: Exception | W27: =OFFSET(S27,0,LEFT(O27,1)) -> 0 | AA27: 0. Selection Required | AC27: =COUNTIF(AA27,"<=1),""0") -> 1 | AD27: 0 | AF27: Optimum | AG27: Acceptable | AH27: Exception | AI27: =OFFSET(AE27,0,LEFT(AA27,1)) -> 0
A28: Width | C28: 0. Selection Required | E28: =COUNTIF(C28,"<=1),""0") -> 1 | F28: 0 | H28: Optimum | I28: Acceptable | J28: Exception | K28: =OFFSET(G28,0,LEFT(C28,1)) -> 0 | O28: 0. Selection Required | Q28: =COUNTIF(O28,"<=1),""0") -> 1 | R28: 0 | T28: Optimum | U28: Acceptable | V28: Exception | W28: =OFFSET(S28,0,LEFT(O28,1)) -> 0 | AA28: 0. Selection Required | AC28: =COUNTIF(AA28,"<=1),""0") -> 1 | AD28: 0 | AF28: Optimum | AG28: Acceptable | AH28: Exception | AI28: =OFFSET(AE28,0,LEFT(AA28,1)) -> 0
A29: Depth | C29: 0. Selection Required | E29: =COUNTIF(C29,"<=1),""0") -> 1 | F29: 0 | H29: Optimum | I29: Acceptable | J29: Exception | K29: =OFFSET(G29,0,LEFT(C29,1)) -> 0 | O29: 0. Selection Required | Q29: =COUNTIF(O29,"<=1),""0") -> 1 | R29: 0 | T29: Optimum | U29: Acceptable | V29: Exception | W29: =OFFSET(S29,0,LEFT(O29,1)) -> 0 | AA29: 0. Selection Required | AC29: =COUNTIF(AA29,"<=1),""0") -> 1 | AD29: 0 | AF29: Optimum | AG29: Acceptable | AH29: Exception | AI29: =OFFSET(AE29,0,LEFT(AA29,1)) -> 0
A30: IT TECHNICAL SPACE (WHITE SPACE)
A31: Floor rolling load | C31: 0. Selection Required | E31: =COUNTIF(C31,"<=1),""0") -> 1 | F31: 0 | H31: Optimum | I31: Acceptable | J31: Exception | K31: =OFFSET(G31,0,LEFT(C31,1)) -> 0 | O31: 0. Selection Required | Q31: =COUNTIF(O31,"<=1),""0") -> 1 | R31: 0 | T31: Optimum | U31: Acceptable | V31: Exception | W31: =OFFSET(S31,0,LEFT(O31,1)) -> 0 | AA31: 0. Selection Required | AC31: =COUNTIF(AA31,"<=1),""0") -> 1 | AD31: 0 | AF31: Optimum | AG31: Acceptable | AH31: Exception | AI31: =OFFSET(AE31,0,LEFT(AA31,1)) -> 0
A32: Floor uniform load | C32: 0. Selection Required | E32: =COUNTIF(C32,"<=1),""0") -> 1 | F32: 0 | H32: Optimum | I32: Acceptable | J32: Exception | K32: =OFFSET(G32,0,LEFT(C32,1)) -> 0 | O32: 0. Selection Required | Q32: =COUNTIF(O32,"<=1),""0") -> 1 | R32: 0 | T32: Optimum | U32: Acceptable | V32: Exception | W32: =OFFSET(S32,0,LEFT(O32,1)) -> 0 | AA32: 0. Selection Required | AC32: =COUNTIF(AA32,"<=1),""0") -> 1 | AD32: 0 | AF32: Optimum | AG32: Acceptable | AH32: Exception | AI32: =OFFSET(AE32,0,LEFT(AA32,1)) -> 0
A33: Floor concentrated load | C33: 0. Selection Required | E33: =COUNTIF(C33,"<=1),""0") -> 1 | F33: 0 | H33: Optimum | I33: Acceptable | J33: Exception | K33: =OFFSET(G33,0,LEFT(C33,1)) -> 0 | O33: 0. Selection Required | Q33: =COUNTIF(O33,"<=1),""0") -> 1 | R33: 0 | T33: Optimum | U33: Acceptable | V33: Exception | W33: =OFFSET(S33,0,LEFT(O33,1)) -> 0 | AA33: 0. Selection Required | AC33: =COUNTIF(AA33,"<=1),""0") -> 1 | AD33: 0 | AF33: Optimum | AG33: Acceptable | AH33: Exception | AI33: =OFFSET(AE33,0,LEFT(AA33,1)) -> 0
A34: Finished floor to ceiling height | C34: 0. Selection Required | E34: =COUNTIF(C34,"<=1),""0") -> 1 | F34: 0 | H34: Optimum | I34: Acceptable | J34: Exception | K34: =OFFSET(G34,0,LEFT(C34,1)) -> 0 | O34: 0. Selection Required | Q34: =COUNTIF(O34,"<=1),""0") -> 1 | R34: 0 | T34: Optimum | U34: Acceptable | V34: Exception | W34: =OFFSET(S34,0,LEFT(O34,1)) -> 0 | AA34: 0. Selection Required | AC34: =COUNTIF(AA34,"<=1),""0") -> 1 | AD34: 0 | AF34: Optimum | AG34: Acceptable | AH34: Exception | AI34: =OFFSET(AE34,0,LEFT(AA34,1)) -> 0
A35: Access floor clearance | C35: 0. Selection Required | E35: =COUNTIF(C35,"<=1),""0") -> 1 | F35: 0 | H35: Optimum | I35: Acceptable | J35: Exception | K35: =OFFSET(G35,0,LEFT(C35,1)) -> 0 | O35: 0. Selection Required | Q35: =COUNTIF(O35,"<=1),""0") -> 1 | R35: 0 | T35: Optimum | U35: Acceptable | V35: Exception | W35: =OFFSET(S35,0,LEFT(O35,1)) -> 0 | AA35: 0. Selection Required | AC35: =COUNTIF(AA35,"<=1),""0") -> 1 | AD35: 0 | AF35: Optimum | AG35: Acceptable | AH35: Exception | AI35: =OFFSET(AE35,0,LEFT(AA35,1)) -> 0
A36: ELECTRICAL
A37: Number of independent circuits to the rack | C37: 0. Selection Required | E37: =COUNTIF(C37,"<=1),""0") -> 1 | F37: 0 | H37: Optimum | I37: Acceptable | J37: Exception | K37: =OFFSET(G37,0,LEFT(C37,1)) -> 0 | O37: 0. Selection Required | Q37: =COUNTIF(O37,"<=1),""0") -> 1 | R37: 0 | T37: Optimum | U37: Acceptable | V37: Exception | W37: =OFFSET(S37,0,LEFT(O37,1)) -> 0 | AA37: 0. Selection Required | AC37: =COUNTIF(AA37,"<=1),""0") -> 1 | AD37: 0 | AF37: Optimum | AG37: Acceptable | AH37: Exception | AI37: =OFFSET(AE37,0,LEFT(AA37,1)) -> 0
A38: Maximum circuit capacity | C38: 0. Selection Required | E38: =COUNTIF(C38,"<=1),""0") -> 1 | F38: 0 | H38: Optimum | I38: Acceptable | J38: Exception | K38: =OFFSET(G38,0,LEFT(C38,1)) -> 0 | O38: 0. Selection Required | Q38: =COUNTIF(O38,"<=1),""0") -> 1 | R38: 0 | T38: Optimum | U38: Acceptable | V38: Exception | W38: =OFFSET(S38,0,LEFT(O38,1)) -> 0 | AA38: 0. Selection Required | AC38: =COUNTIF(AA38,"<=1),""0") -> 1 | AD38: 0 | AF38: Optimum | AG38: Acceptable | AH38: Exception | AI38: =OFFSET(AE38,0,LEFT(AA38,1)) -> 0
A39: Circuit voltage | C39: 0. Selection Required | E39: =COUNTIF(C39,"<=1),""0") -> 1 | F39: 0 | H39: Optimum | I39: Acceptable | J39: Exception | K39: =OFFSET(G39,0,LEFT(C39,1)) -> 0 | O39: 0. Selection Required | Q39: =COUNTIF(O39,"<=1),""0") -> 1 | R39: 0 | T39: Optimum | U39: Acceptable | V39: Exception | W39: =OFFSET(S39,0,LEFT(O39,1)) -> 0 | AA39: 0. Selection Required | AC39: =COUNTIF(AA39,"<=1),""0") -> 1 | AD39: 0 | AF39: Optimum | AG39: Acceptable | AH39: Exception | AI39: =OFFSET(AE39,0,LEFT(AA39,1)) -> 0
A40: Circuit frequency | C40: 0. Selection Required | E40: =COUNTIF(C40,"<=1),""0") -> 1 | F40: 0 | H40: Optimum | I40: Acceptable | J40: Exception | K40: =OFFSET(G40,0,LEFT(C40,1)) -> 0 | O40: 0. Selection Required | Q40: =COUNTIF(O40,"<=1),""0") -> 1 | R40: 0 | T40: Optimum | U40: Acceptable | V40: Exception | W40: =OFFSET(S40,0,LEFT(O40,1)) -> 0 | AA40: 0. Selection Required | AC40: =COUNTIF(AA40,"<=1),""0") -> 1 | AD40: 0 | AF40: Optimum | AG40: Acceptable | AH40: Exception | AI40: =OFFSET(AE40,0,LEFT(AA40,1)) -> 0
...

Sheet Dropdown
A1: =TEXT(B1,"mm/dd/yyyy") -> 01/17/2023 | B1: =TODAY() -> 44943
A3: Foundation List | B3: PL List
A4: <Approval Needed> | B4: <Approval Needed>
A5: Approved:Steve Helvie, 01/17/2023 | B5: Approved:Bret Lehman, 01/17/2023
A6: Approved:Bijan Nowroozi, 01/17/2023 | B6: Approved:Madhusudan Iyengar , 01/17/2023
B7: Approved:Mark Dansie, 01/17/2023
B8: Approved:Rob Coyle, 01/17/2023
A11: Incubation Committee List
A12: <Approval Needed>
A13: Approved:Justin Steadman, 01/17/2023
B15: Row 15
B16: 0. Selection Required
B17: 1. ≥2.7m (108in) H x ≥2.4m (96in) W x ≥2.4m (96in) D unobstructed access and threshold free
B18: 2. ≥2.7m (108in) H x ≥1.2m (48in) W unobstructed access and threshold free
B19: 2. ≥2.7m (108in) x ≥1.2m (48in) with threshold (notes required)
B20: 2.≥2.3m (90in) H x ≥ .9m (36in) W unobstructed access and threshold free
B21: 2.≥2.3m (90in) H x ≥ .9m (36in) W with threshold (notes required)
B22: 3. <2.3m (90in) H or <.9m (36in) W
B24: Row 16
B25: 0. Selection Required
B26: 1. ≥2.4m (96in) H x ≥1.8m (72in) W unobstructed access and threshold free
B27: 2. ≥2.4m (96in) H x ≥1.8m (72in) W with threshold (notes required)
... B37: 2. <459kg (1012lb) (4.5kN) (notes required)
