Workbook
Name A_Application_Delivery: #REF!
Name A_Application_Delivery_factor: #REF!
Name A_CMM: #REF!
Name A_DC_AMORTIZATION: #REF!
Name A_DC_CAPACITY: #REF!
Name A_DC_CapEx: #REF!
Name A_DC_LOAD: #REF!
Name A_DC_LOAD_CAPACITY: #REF!
Name A_ENERGY: #REF!
Name A_NAME: 'Site Assessment'!$A$1
Name A_NOS_SOURCE: 'Site Assessment'!$K$61
Name A_NW_Factor: 'Site Assessment'!$K$59
Name A_NW_REDUNDANCY: 'Site Assessment'!$K$59
Name A_NW_SOURCE: 'Site Assessment'!$K$60
Name A_NW_SUPPLIER: 'Site Assessment'!$C$60
Name A_PUE: #REF!
Name A_REFRESH: #REF!
Name A_S1: 'Site Assessment'!$O$59
Name A_S2: 'Site Assessment'!$O$60
Name A_S3: #REF!
Name A_SERVER_ASP: #REF!
Name A_TOR_SOURCE: 'Site Assessment'!$K$60
Name A_UTILIZATION: #REF!
Name B_S1: #REF!
Name B_S2: #REF!
Name B_S3: #REF!
Name B_S5: #REF!
Name B_TRANSFORM_TIMEFRAME: #REF!
Name CODE: #REF!
Name SERVER_COUNT: 'Site Assessment'!$C$14
Name Virtualized_A: 'Site Assessment'!$K$21

Sheet Revision, Licence & Use
B5: Revision History
B6: Date | C6: Version | D6: Description
B7: 43013 | C7: 1.0 | D7: Created first final.
B8: 43395 | C8: 2 | D8: Revised formatting and content. Published.
B9: 43431 | C9: 2.1 | D9: Minor revisions.
B10: 43482 | C10: 2.2 | D10: Added rolling and concentrated load Acceptable level of 4.5kN.
B11: 43634 | C11: 2.3 | D11: Corrected issue in Self Assessment Status rollup for Site 2 and Site 3 assessments.
B12: 43866 | C12: 2.4 | D12: Added clarification to those requirements that must have an 'Optimum' or 'Acceptable' result and for 'Considerations' information only. Added to Considerations > Efficiency > the 'Site Operations' attribute.
B13: 43873 | C13: 2020 | D13: Final for publication
B14: 44053 | C14: 2020-A | D14: Final for publication
B15: 44378 | C15: 2.5 | D15: Revision to allow for air containment and aisle widths to be selected as 'Not Applicable' due to use of RDHx
B16: 44943 | C16: 2.6 | D16: Revision to the 'Checklist' worksheet for the revised approval process and minor edits 1) Added 'IT Technical Space' to 'White Space' headings to align with OCP Ready Requirements Matrix -2020A 2) Added note to 'Checklist' worksheet cell B28 & B29 'not required for re-assessment,refers to rows 22-23'
B17: This work is licensed under a Creative Commons Attribution 4.0 International License.

Sheet CHECKLIST
B1: OCP READY Colo Site Assessment Checklist
B2: COLO SOLUTION PROVIDER
B3: CITY, STATE ZIP
B4: ADDRESS
B5: CONTACT NAME/EMAIL:
B6: Personal Information Release:
B7: "By making contributions, I acknowledge and accept OCP’s Privacy Policy. I further represent that I have all rights necessary to provide any personal information for myself and others included in my contributions.” | D7: Acknowledgement Required
B9: LICENSE & MEMBERSHIP REQUIREMENT
B10: Submitter must be an OCP member in good standing. | D10: Acknowledgement Required
B11: Submitter has signed Colo Solution Provider Agreement | D11: Acknowledgement Required
B12: Link to Colo Solution Provider Agreement
B13: Submitter has executed the Copyright License Agreement (CRLA). | D13: Acknowledgement Required
B14: Link to Copyright License Agreement (CRLA)
B15: Submitter has signed a OCP Ready™ Certification Mark License Agreement | D15: Acknowledgement Required
B16: Link to OCP READY™ Certification Mark License Agreement
B17: Colo has a landing page on their website for inbound OCP leads to provide cohesive branding and experience | D17: Acknowledgement Required
B19: Facility/Site Specific Requirement | C19: ='Site Assessment'!C1 -> [Site #1 specific name] | D19: ='Site Assessment'!O1 -> [Site #2 specific name] | E19: ='Site Assessment'!AA1 -> [Site #3 specific name]
C20: ='Site Assessment'!C2 -> NOT COMPLETED | D20: ='Site Assessment'!O2 -> NOT COMPLETED | E20: ='Site Assessment'!AA2 -> NOT COMPLETED
B21: Data Center Location Name | C21: ='Site Assessment'!C3 -> 0 | D21: ='Site Assessment'!O3 -> 0 | E21: ='Site Assessment'!AA3 -> 0
B22: Date Original Assessment was Completed: | C22: ='Site Assessment'!C10 -> 0 | D22: ='Site Assessment'!O10 -> 0 | E22: ='Site Assessment'!AA10 -> 0
B23: Re-Assessment Date: | C23: ='Site Assessment'!C11 -> 0 | D23: ='Site Assessment'!O11 -> 0 | E23: ='Site Assessment'!AA11 -> 0
B25: Submitter acknowledges that the assessment is reviewed every 12 months and is accurately reported in the Self Assessment section: | C25: Acknowledgement Required | D25: Acknowledgement Required | E25: Acknowledgement Required
B26: Self-assessment document and supporting information has been presented to the Data Center Facilities Project | C26: Acknowledgement Required | D26: Acknowledgement Required | E26: Acknowledgement Required
B27: The DCF Project Lead approves the self assessment checklist | C27: <Approval Needed> | D27: <Approval Needed> | E27: <Approval Needed>
B28: The Foundation’s DCF Incubation Committee representative approves the self assessment checklist (not required for re-assessment,refers to rows 22-23) | C28: <Approval Needed> | D28: <Approval Needed> | E28: <Approval Needed>
B29: The Foundation’s representative approves the self assessment checklist (not required for re-assessment,refers to rows 22-23) | C29: <Approval Needed> | D29: <Approval Needed> | E29: <Approval Needed>

Sheet Site Assessment
A1: OCP Ready Colo Facility Site Assessment | C1: [Site #1 specific name] | O1: [Site #2 specific name] | AA1: [Site #3 specific name]
A2: Self Assessment Status: | C2: =IF(SUM(E12:F12)=0,"COMPLETE-MEETS REQUIREMENTS",IF(E12>0,"NOT COMPLETED","COMPLETE-DOES NOT MEET")) -> NOT COMPLETED | O2: =IF(SUM(Q12:R12)=0,"COMPLETE-MEETS REQUIREMENTS",IF(Q12>0,"NOT COMPLETED","COMPLETE-DOES NOT MEET")) -> NOT COMPLETED | AA2: =IF(SUM(AC12:AD12)=0,"COMPLETE-MEETS REQUIREMENTS",IF(AC12>0,"NOT COMPLETED","COMPLETE-DOES NOT MEET")) -> NOT COMPLETED
A3: Data Center Location Name
A4: Data Center Location Address
A5: Site Description: IT Technical Space (White Space) Area
A6: Site Description: Critical IT Power
A7: Site Description: Network Provider Availability
A8: Site Description: Facility Features
A9: Site Description: Other Services
A10: Date Original Assessment is Completed
A11: Re-Assessment Date:
A12: REQUIREMENTS - Attribute (Must have an Optimum or Acceptable result) | C12: Parameter | E12: =SUM(E14:E78) -> 68 | F12: =SUM(F14:F78) -> 0 | K12: Result | M12: Notes | O12: Parameter | Q12: =SUM(Q14:Q78) -> 55 | R12: =SUM(R14:R78) -> 0 | W12: Result | Y12: Notes | AA12: Parameter | AC12: =SUM(AC14:AC78) -> 55 | AD12: =SUM(AD14:AD78) -> 0 | AI12: Result | AK12: Notes
A13: ACCESS
A14: Building Access | C14: 0. Selection Required | E14: =COUNTIF(C14,"<=1),""0") -> 1 | F14: 0 | H14: Optimum | I14: Acceptable | J14: Exception | K14: =OFFSET(G14,0,LEFT(C14,1)) -> 0 | O14: 0. Selection Required | Q14: =COUNTIF(O14,"<=1),""0") -> 1 | R14: 0 | T14: Optimum | U14: Acceptable | V14: Exception | W14: =OFFSET(S14,0,LEFT(O14,1)) -> 0 | AA14: 0. Selection Required | AC14: =COUNTIF(AA14,"<=1),""0") -> 1 | AD14: 0 | AF14: Optimum | AG14: Acceptable | AH14: Exception | AI14: =OFFSET(AE14,0,LEFT(AA14,1)) -> 0
A15: Delivery pathway, Loading dock to Goods in | C15: 0. Selection Required | E15: =COUNTIF(C15,"<=1),""0") -> 1 | F15: 0 | H15: Optimum | I15: Acceptable | J15: Exception | K15: =OFFSET(G15,0,LEFT(C15,1)) -> 0 | O15: 0. Selection Required | Q15: =COUNTIF(O15,"<=1),""0") -> 1 | R15: 0 | T15: Optimum | U15: Acceptable | V15: Exception | W15: =OFFSET(S15,0,LEFT(O15,1)) -> 0 | AA15: 0. Selection Required | AC15: =COUNTIF(AA15,"<=1),""0") -> 1 | AD15: 0 | AF15: Optimum | AG15: Acceptable | AH15: Exception | AI15: =OFFSET(AE15,0,LEFT(AA15,1)) -> 0
A16: Delivery pathway, Goods in to White space | C16: 0. Selection Required | E16: =COUNTIF(C16,"<=1),""0") -> 1 | F16: 0 | H16: Optimum | I16: Acceptable | J16: Exception | K16: =OFFSET(G16,0,LEFT(C16,1)) -> 0 | O16: 0. Selection Required | Q16: =COUNTIF(O16,"<=1),""0") -> 1 | R16: 0 | T16: Optimum | U16: Acceptable | V16: Exception | W16: =OFFSET(S16,0,LEFT(O16,1)) -> 0 | AA16: 0. Selection Required | AC16: =COUNTIF(AA16,"<=1),""0") -> 1 | AD16: 0 | AF16: Optimum | AG16: Acceptable | AH16: Exception | AI16: =OFFSET(AE16,0,LEFT(AA16,1)) -> 0
A17: Corridor floor rolling load | C17: 0. Selection Required | E17: =COUNTIF(C17,"<=1),""0") -> 1 | F17: 0 | H17: Optimum | I17: Acceptable | J17: Exception | K17: =OFFSET(G17,0,LEFT(C17,1)) -> 0 | O17: 0. Selection Required | Q17: =COUNTIF(O17,"<=1),""0") -> 1 | R17: 0 | T17: Optimum | U17: Acceptable | V17: Exception | W17: =OFFSET(S17,0,LEFT(O17,1)) -> 0 | AA17: 0. Selection Required | AC17: =COUNTIF(AA17,"<=1),""0") -> 1 | AD17: 0 | AF17: Optimum | AG17: Acceptable | AH17: Exception | AI17: =OFFSET(AE17,0,LEFT(AA17,1)) -> 0
A18: Unboxing/pre-staging/storage area floor uniform load | C18: 0. Selection Required | E18: =COUNTIF(C18,"<=1),""0") -> 1 | F18: 0 | H18: Optimum | I18: Acceptable | J18: Exception | K18: =OFFSET(G18,0,LEFT(C18,1)) -> 0 | O18: 0. Selection Required | Q18: =COUNTIF(O18,"<=1),""0") -> 1 | R18: 0 | T18: Optimum | U18: Acceptable | V18: Exception | W18: =OFFSET(S18,0,LEFT(O18,1)) -> 0 | AA18: 0. Selection Required | AC18: =COUNTIF(AA18,"<=1),""0") -> 1 | AD18: 0 | AF18: Optimum | AG18: Acceptable | AH18: Exception | AI18: =OFFSET(AE18,0,LEFT(AA18,1)) -> 0
A19: Unboxing/pre-staging/storage area floor concentrated load | C19: 0. Selection Required | E19: =COUNTIF(C19,"<=1),""0") -> 1 | F19: 0 | H19: Optimum | I19: Acceptable | J19: Exception | K19: =OFFSET(G19,0,LEFT(C19,1)) -> 0 | O19: 0. Selection Required | Q19: =COUNTIF(O19,"<=1),""0") -> 1 | R19: 0 | T19: Optimum | U19: Acceptable | V19: Exception | W19: =OFFSET(S19,0,LEFT(O19,1)) -> 0 | AA19: 0. Selection Required | AC19: =COUNTIF(AA19,"<=1),""0") -> 1 | AD19: 0 | AF19: Optimum | AG19: Acceptable | AH19: Exception | AI19: =OFFSET(AE19,0,LEFT(AA19,1)) -> 0
A20: RAMPS
A21: Gradient | C21: 0. Selection Required | E21: =COUNTIF(C21,"<=1),""0") -> 1 | F21: 0 | H21: Optimum | I21: Acceptable | J21: Exception | K21: =OFFSET(G21,0,LEFT(C21,1)) -> 0 | O21: 0. Selection Required | Q21: =COUNTIF(O21,"<=1),""0") -> 1 | R21: 0 | T21: Optimum | U21: Acceptable | V21: Exception | W21: =OFFSET(S21,0,LEFT(O21,1)) -> 0 | AA21: 0. Selection Required | AC21: =COUNTIF(AA21,"<=1),""0") -> 1 | AD21: 0 | AF21: Optimum | AG21: Acceptable | AH21: Exception | AI21: =OFFSET(AE21,0,LEFT(AA21,1)) -> 0
A22: Width | C22: 0. Selection Required | E22: =COUNTIF(C22,"<=1),""0") -> 1 | F22: 0 | H22: Optimum | I22: Acceptable | J22: Exception | K22: =OFFSET(G22,0,LEFT(C22,1)) -> 0 | O22: 0. Selection Required | Q22: =COUNTIF(O22,"<=1),""0") -> 1 | R22: 0 | T22: Optimum | U22: Acceptable | V22: Exception | W22: =OFFSET(S22,0,LEFT(O22,1)) -> 0 | AA22: 0. Selection Required | AC22: =COUNTIF(AA22,"<=1),""0") -> 1 | AD22: 0 | AF22: Optimum | AG22: Acceptable | AH22: Exception | AI22: =OFFSET(AE22,0,LEFT(AA22,1)) -> 0
A23: Landing area | C23: 0. Selection Required | E23: =COUNTIF(C23,"<=1),""0") -> 1 | F23: 0 | H23: Optimum | I23: Acceptable | J23: Exception | K23: =OFFSET(G23,0,LEFT(C23,1)) -> 0 | O23: 0. Selection Required | Q23: =COUNTIF(O23,"<=1),""0") -> 1 | R23: 0 | T23: Optimum | U23: Acceptable | V23: Exception | W23: =OFFSET(S23,0,LEFT(O23,1)) -> 0 | AA23: 0. Selection Required | AC23: =COUNTIF(AA23,"<=1),""0") -> 1 | AD23: 0 | AF23: Optimum | AG23: Acceptable | AH23: Exception | AI23: =OFFSET(AE23,0,LEFT(AA23,1)) -> 0
A24: Railings | C24: 0. Selection Required | E24: =COUNTIF(C24,"<=1),""0") -> 1 | F24: 0 | H24: Optimum | I24: Acceptable | J24: Exception | K24: =OFFSET(G24,0,LEFT(C24,1)) -> 0 | O24: 0. Selection Required | Q24: =COUNTIF(O24,"<=1),""0") -> 1 | R24: 0 | T24: Optimum | U24: Acceptable | V24: Exception | W24: =OFFSET(S24,0,LEFT(O24,1)) -> 0 | AA24: 0. Selection Required | AC24: =COUNTIF(AA24,"<=1),""0") -> 1 | AD24: 0 | AF24: Optimum | AG24: Acceptable | AH24: Exception | AI24: =OFFSET(AE24,0,LEFT(AA24,1)) -> 0
A25: LIFTS / ELEVATORS
A26: Weight loading | C26: 0. Selection Required | E26: =COUNTIF(C26,"<=1),""0") -> 1 | F26: 0 | H26: Optimum | I26: Acceptable | J26: Exception | K26: =OFFSET(G26,0,LEFT(C26,1)) -> 0 | O26: 0. Selection Required | Q26: =COUNTIF(O26,"<=1),""0") -> 1 | R26: 0 | T26: Optimum | U26: Acceptable | V26: Exception | W26: =OFFSET(S26,0,LEFT(O26,1)) -> 0 | AA26: 0. Selection Required | AC26: =COUNTIF(AA26,"<=1),""0") -> 1 | AD26: 0 | AF26: Optimum | AG26: Acceptable | AH26: Exception | AI26: =OFFSET(AE26,0,LEFT(AA26,1)) -> 0
A27: Door height | C27: 0. Selection Required | E27: =COUNTIF(C27,"<=1),""0") -> 1 | F27: 0 | H27: Optimum | I27: Acceptable | J27: Exception | K27: =OFFSET(G27,0,LEFT(C27,1)) -> 0 | O27: 0. Selection Required | Q27: =COUNTIF(O27,"<=1),""0") -> 1 | R27: 0 | T27: Optimum | U27: Acceptable | V27: Exception | W27: =OFFSET(S27,0,LEFT(O27,1)) -> 0 | AA27: 0. Selection Required | AC27: =COUNTIF(AA27,"<=1),""0") -> 1 | AD27: 0 | AF27: Optimum | AG27: Acceptable | AH27: Exception | AI27: =OFFSET(AE27,0,LEFT(AA27,1)) -> 0
A28: Width | C28: 0. Selection Required | E28: =COUNTIF(C28,"<=1),""0") -> 1 | F28: 0 | H28: Optimum | I28: Acceptable | J28: Exception | K28: =OFFSET(G28,0,LEFT(C28,1)) -> 0 | O28: 0. Selection Required | Q28: =COUNTIF(O28,"<=1),""0") -> 1 | R28: 0 | T28: Optimum | U28: Acceptable | V28: Exception | W28: =OFFSET(S28,0,LEFT(O28,1)) -> 0 | AA28: 0. Selection Required | AC28: =COUNTIF(AA28,"<=1),""0") -> 1 | AD28: 0 | AF28: Optimum | AG28: Acceptable | AH28: Exception | AI28: =OFFSET(AE28,0,LEFT(AA28,1)) -> 0
A29: Depth | C29: 0. Selection Required | E29: =COUNTIF(C29,"<=1),""0") -> 1 | F29: 0 | H29: Optimum | I29: Acceptable | J29: Exception | K29: =OFFSET(G29,0,LEFT(C29,1)) -> 0 | O29: 0. Selection Required | Q29: =COUNTIF(O29,"<=1),""0") -> 1 | R29: 0 | T29: Optimum | U29: Acceptable | V29: Exception | W29: =OFFSET(S29,0,LEFT(O29,1)) -> 0 | AA29: 0. Selection Required | AC29: =COUNTIF(AA29,"<=1),""0") -> 1 | AD29: 0 | AF29: Optimum | AG29: Acceptable | AH29: Exception | AI29: =OFFSET(AE29,0,LEFT(AA29,1)) -> 0
A30: IT TECHNICAL SPACE (WHITE SPACE)
A31: Floor rolling load | C31: 0. Selection Required | E31: =COUNTIF(C31,"<=1),""0") -> 1 | F31: 0 | H31: Optimum | I31: Acceptable | J31: Exception | K31: =OFFSET(G31,0,LEFT(C31,1)) -> 0 | O31: 0. Selection Required | Q31: =COUNTIF(O31,"<=1),""0") -> 1 | R31: 0 | T31: Optimum | U31: Acceptable | V31: Exception | W31: =OFFSET(S31,0,LEFT(O31,1)) -> 0 | AA31: 0. Selection Required | AC31: =COUNTIF(AA31,"<=1),""0") -> 1 | AD31: 0 | AF31: Optimum | AG31: Acceptable | AH31: Exception | AI31: =OFFSET(AE31,0,LEFT(AA31,1)) -> 0
A32: Floor uniform load | C32: 0. Selection Required | E32: =COUNTIF(C32,"<=1),""0") -> 1 | F32: 0 | H32: Optimum | I32: Acceptable | J32: Exception | K32: =OFFSET(G32,0,LEFT(C32,1)) -> 0 | O32: 0. Selection Required | Q32: =COUNTIF(O32,"<=1),""0") -> 1 | R32: 0 | T32: Optimum | U32: Acceptable | V32: Exception | W32: =OFFSET(S32,0,LEFT(O32,1)) -> 0 | AA32: 0. Selection Required | AC32: =COUNTIF(AA32,"<=1),""0") -> 1 | AD32: 0 | AF32: Optimum | AG32: Acceptable | AH32: Exception | AI32: =OFFSET(AE32,0,LEFT(AA32,1)) -> 0
A33: Floor concentrated load | C33: 0. Selection Required | E33: =COUNTIF(C33,"<=1),""0") -> 1 | F33: 0 | H33: Optimum | I33: Acceptable | J33: Exception | K33: =OFFSET(G33,0,LEFT(C33,1)) -> 0 | O33: 0. Selection Required | Q33: =COUNTIF(O33,"<=1),""0") -> 1 | R33: 0 | T33: Optimum | U33: Acceptable | V33: Exception | W33: =OFFSET(S33,0,LEFT(O33,1)) -> 0 | AA33: 0. Selection Required | AC33: =COUNTIF(AA33,"<=1),""0") -> 1 | AD33: 0 | AF33: Optimum | AG33: Acceptable | AH33: Exception | AI33: =OFFSET(AE33,0,LEFT(AA33,1)) -> 0
A34: Finished floor to ceiling height | C34: 0. Selection Required | E34: =COUNTIF(C34,"<=1),""0") -> 1 | F34: 0 | H34: Optimum | I34: Acceptable | J34: Exception | K34: =OFFSET(G34,0,LEFT(C34,1)) -> 0 | O34: 0. Selection Required | Q34: =COUNTIF(O34,"<=1),""0") -> 1 | R34: 0 | T34: Optimum | U34: Acceptable | V34: Exception | W34: =OFFSET(S34,0,LEFT(O34,1)) -> 0 | AA34: 0. Selection Required | AC34: =COUNTIF(AA34,"<=1),""0") -> 1 | AD34: 0 | AF34: Optimum | AG34: Acceptable | AH34: Exception | AI34: =OFFSET(AE34,0,LEFT(AA34,1)) -> 0
A35: Access floor clearance | C35: 0. Selection Required | E35: =COUNTIF(C35,"<=1),""0") -> 1 | F35: 0 | H35: Optimum | I35: Acceptable | J35: Exception | K35: =OFFSET(G35,0,LEFT(C35,1)) -> 0 | O35: 0. Selection Required | Q35: =COUNTIF(O35,"<=1),""0") -> 1 | R35: 0 | T35: Optimum | U35: Acceptable | V35: Exception | W35: =OFFSET(S35,0,LEFT(O35,1)) -> 0 | AA35: 0. Selection Required | AC35: =COUNTIF(AA35,"<=1),""0") -> 1 | AD35: 0 | AF35: Optimum | AG35: Acceptable | AH35: Exception | AI35: =OFFSET(AE35,0,LEFT(AA35,1)) -> 0
A36: ELECTRICAL
A37: Number of independent circuits to the rack | C37: 0. Selection Required | E37: =COUNTIF(C37,"<=1),""0") -> 1 | F37: 0 | H37: Optimum | I37: Acceptable | J37: Exception | K37: =OFFSET(G37,0,LEFT(C37,1)) -> 0 | O37: 0. Selection Required | Q37: =COUNTIF(O37,"<=1),""0") -> 1 | R37: 0 | T37: Optimum | U37: Acceptable | V37: Exception | W37: =OFFSET(S37,0,LEFT(O37,1)) -> 0 | AA37: 0. Selection Required | AC37: =COUNTIF(AA37,"<=1),""0") -> 1 | AD37: 0 | AF37: Optimum | AG37: Acceptable | AH37: Exception | AI37: =OFFSET(AE37,0,LEFT(AA37,1)) -> 0
A38: Maximum circuit capacity | C38: 0. Selection Required | E38: =COUNTIF(C38,"<=1),""0") -> 1 | F38: 0 | H38: Optimum | I38: Acceptable | J38: Exception | K38: =OFFSET(G38,0,LEFT(C38,1)) -> 0 | O38: 0. Selection Required | Q38: =COUNTIF(O38,"<=1),""0") -> 1 | R38: 0 | T38: Optimum | U38: Acceptable | V38: Exception | W38: =OFFSET(S38,0,LEFT(O38,1)) -> 0 | AA38: 0. Selection Required | AC38: =COUNTIF(AA38,"<=1),""0") -> 1 | AD38: 0 | AF38: Optimum | AG38: Acceptable | AH38: Exception | AI38: =OFFSET(AE38,0,LEFT(AA38,1)) -> 0
A39: Circuit voltage | C39: 0. Selection Required | E39: =COUNTIF(C39,"<=1),""0") -> 1 | F39: 0 | H39: Optimum | I39: Acceptable | J39: Exception | K39: =OFFSET(G39,0,LEFT(C39,1)) -> 0 | O39: 0. Selection Required | Q39: =COUNTIF(O39,"<=1),""0") -> 1 | R39: 0 | T39: Optimum | U39: Acceptable | V39: Exception | W39: =OFFSET(S39,0,LEFT(O39,1)) -> 0 | AA39: 0. Selection Required | AC39: =COUNTIF(AA39,"<=1),""0") -> 1 | AD39: 0 | AF39: Optimum | AG39: Acceptable | AH39: Exception | AI39: =OFFSET(AE39,0,LEFT(AA39,1)) -> 0
A40: Circuit frequency | C40: 0. Selection Required | E40: =COUNTIF(C40,"<=1),""0") -> 1 | F40: 0 | H40: Optimum | I40: Acceptable | J40: Exception | K40: =OFFSET(G40,0,LEFT(C40,1)) -> 0 | O40: 0. Selection Required | Q40: =COUNTIF(O40,"<=1),""0") -> 1 | R40: 0 | T40: Optimum | U40: Acceptable | V40: Exception | W40: =OFFSET(S40,0,LEFT(O40,1)) -> 0 | AA40: 0. Selection Required | AC40: =COUNTIF(AA40,"<=1),""0") -> 1 | AD40: 0 | AF40: Optimum | AG40: Acceptable | AH40: Exception | AI40: =OFFSET(AE40,0,LEFT(AA40,1)) -> 0
A41: Power receptacle / WIP Type | C41: 0. Selection Required | E41: =COUNTIF(C41,"<=1),""0") -> 1 | F41: 0 | H41: Optimum | I41: Acceptable | J41: Exception | K41: =OFFSET(G41,0,LEFT(C41,1)) -> 0 | O41: 0. Selection Required | Q41: =COUNTIF(O41,"<=1),""0") -> 1 | R41: 0 | T41: Optimum | U41: Acceptable | V41: Exception | W41: =OFFSET(S41,0,LEFT(O41,1)) -> 0 | AA41: 0. Selection Required | AC41: =COUNTIF(AA41,"<=1),""0") -> 1 | AD41: 0 | AF41: Optimum | AG41: Acceptable | AH41: Exception | AI41: =OFFSET(AE41,0,LEFT(AA41,1)) -> 0
A42: Circuit receptacle location | C42: 0. Selection Required | E42: =COUNTIF(C42,"<=1),""0") -> 1 | F42: 0 | H42: Optimum | I42: Acceptable | J42: Exception | K42: =OFFSET(G42,0,LEFT(C42,1)) -> 0 | O42: 0. Selection Required | Q42: =COUNTIF(O42,"<=1),""0") -> 1 | R42: 0 | T42: Optimum | U42: Acceptable | V42: Exception | W42: =OFFSET(S42,0,LEFT(O42,1)) -> 0 | AA42: 0. Selection Required | AC42: =COUNTIF(AA42,"<=1),""0") -> 1 | AD42: 0 | AF42: Optimum | AG42: Acceptable | AH42: Exception | AI42: =OFFSET(AE42,0,LEFT(AA42,1)) -> 0
A43: Upstream UPS options | C43: 0. Selection Required | E43: =COUNTIF(C43,"<=1),""0") -> 1 | F43: 0 | H43: Optimum | I43: Acceptable | J43: Exception | K43: =OFFSET(G43,0,LEFT(C43,1)) -> 0 | O43: 0. Selection Required | Q43: =COUNTIF(O43,"<=1),""0") -> 1 | R43: 0 | T43: Optimum | U43: Acceptable | V43: Exception | W43: =OFFSET(S43,0,LEFT(O43,1)) -> 0 | AA43: 0. Selection Required | AC43: =COUNTIF(AA43,"<=1),""0") -> 1 | AD43: 0 | AF43: Optimum | AG43: Acceptable | AH43: Exception | AI43: =OFFSET(AE43,0,LEFT(AA43,1)) -> 0
A44: Rack-based batteries permitted | C44: 0. Selection Required | E44: =COUNTIF(C44,"<=1),""0") -> 1 | F44: 0 | H44: Optimum | I44: Acceptable | J44: Exception | K44: =OFFSET(G44,0,LEFT(C44,1)) -> 0 | O44: 0. Selection Required | Q44: =COUNTIF(O44,"<=1),""0") -> 1 | R44: 0 | T44: Optimum | U44: Acceptable | V44: Exception | W44: =OFFSET(S44,0,LEFT(O44,1)) -> 0 | AA44: 0. Selection Required | AC44: =COUNTIF(AA44,"<=1),""0") -> 1 | AD44: 0 | AF44: Optimum | AG44: Acceptable | AH44: Exception | AI44: =OFFSET(AE44,0,LEFT(AA44,1)) -> 0
A45: Generator load acceptance time | C45: 0. Selection Required | E45: =COUNTIF(C45,"<=1),""0") -> 1 | F45: 0 | H45: Optimum | I45: Acceptable | J45: Exception | K45: =OFFSET(G45,0,LEFT(C45,1)) -> 0 | O45: 0. Selection Required | Q45: =COUNTIF(O45,"<=1),""0") -> 1 | R45: 0 | T45: Optimum | U45: Acceptable | V45: Exception | W45: =OFFSET(S45,0,LEFT(O45,1)) -> 0 | AA45: 0. Selection Required | AC45: =COUNTIF(AA45,"<=1),""0") -> 1 | AD45: 0 | AF45: Optimum | AG45: Acceptable | AH45: Exception | AI45: =OFFSET(AE45,0,LEFT(AA45,1)) -> 0
A46: COOLING
A47: Rack airflow direction | C47: 0. Selection Required | E47: =COUNTIF(C47,"<=1),""0") -> 1 | F47: 0 | H47: Optimum | I47: Acceptable | J47: Exception | K47: =OFFSET(G47,0,LEFT(C47,1)) -> 0 | O47: 0. Selection Required | Q47: =COUNTIF(O47,"<=1),""0") -> 1 | R47: 0 | T47: Optimum | U47: Acceptable | V47: Exception | W47: =OFFSET(S47,0,LEFT(O47,1)) -> 0 | AA47: 0. Selection Required | AC47: =COUNTIF(AA47,"<=1),""0") -> 1 | AD47: 0 | AF47: Optimum | AG47: Acceptable | AH47: Exception | AI47: =OFFSET(AE47,0,LEFT(AA47,1)) -> 0
A48: Air containment methods | C48: 0. Selection Required | E48: =COUNTIF(C48,"<=1),""0") -> 1 | F48: 0 | H48: Optimum | I48: Acceptable | J48: Exception | K48: =OFFSET(G48,0,LEFT(C48,1)) -> 0 | O48: 0. Selection Required | Q48: =COUNTIF(O48,"<=1),""0") -> 1 | R48: 0 | T48: Optimum | U48: Acceptable | V48: Exception | W48: =OFFSET(S48,0,LEFT(O48,1)) -> 0 | AA48: 0. Selection Required | AC48: =COUNTIF(AA48,"<=1),""0") -> 1 | AD48: 0 | AF48: Optimum | AG48: Acceptable | AH48: Exception | AI48: =OFFSET(AE48,0,LEFT(AA48,1)) -> 0
A49: Maximum rack density | C49: 0. Selection Required | E49: =COUNTIF(C49,"<=1),""0") -> 1 | F49: 0 | H49: Optimum | I49: Acceptable | J49: Exception | K49: =OFFSET(G49,0,LEFT(C49,1)) -> 0 | O49: 0. Selection Required | Q49: =COUNTIF(O49,"<=1),""0") -> 1 | R49: 0 | T49: Optimum | U49: Acceptable | V49: Exception | W49: =OFFSET(S49,0,LEFT(O49,1)) -> 0 | AA49: 0. Selection Required | AC49: =COUNTIF(AA49,"<=1),""0") -> 1 | AD49: 0 | AF49: Optimum | AG49: Acceptable | AH49: Exception | AI49: =OFFSET(AE49,0,LEFT(AA49,1)) -> 0
A50: Minimum cold aisle width | C50: 0. Selection Required | E50: =COUNTIF(C50,"<=1),""0") -> 1 | F50: 0 | H50: Optimum | I50: Acceptable | J50: Exception | K50: =OFFSET(G50,0,LEFT(C50,1)) -> 0 | O50: 0. Selection Required | Q50: =COUNTIF(O50,"<=1),""0") -> 1 | R50: 0 | T50: Optimum | U50: Acceptable | V50: Exception | W50: =OFFSET(S50,0,LEFT(O50,1)) -> 0 | AA50: 0. Selection Required | AC50: =COUNTIF(AA50,"<=1),""0") -> 1 | AD50: 0 | AF50: Optimum | AG50: Acceptable | AH50: Exception | AI50: =OFFSET(AE50,0,LEFT(AA50,1)) -> 0
A51: Minimum free width cold aisle (Inside cage) | C51: 0. Selection Required | E51: =COUNTIF(C51,"<=1),""0") -> 1 | F51: 0 | H51: Optimum | I51: Acceptable | J51: Exception | K51: =OFFSET(G51,0,LEFT(C51,1)) -> 0 | O51: 0. Selection Required | Q51: =COUNTIF(O51,"<=1),""0") -> 1 | R51: 0 | T51: Optimum | U51: Acceptable | V51: Exception | W51: =OFFSET(S51,0,LEFT(O51,1)) -> 0 | AA51: 0. Selection Required | AC51: =COUNTIF(AA51,"<=1),""0") -> 1 | AD51: 0 | AF51: Optimum | AG51: Acceptable | AH51: Exception | AI51: =OFFSET(AE51,0,LEFT(AA51,1)) -> 0
A52: Minimum hot aisle width | C52: 0. Selection Required | E52: =COUNTIF(C52,"<=1),""0") -> 1 | F52: 0 | H52: Optimum | I52: Acceptable | J52: Exception | K52: =OFFSET(G52,0,LEFT(C52,1)) -> 0 | O52: 0. Selection Required | Q52: =COUNTIF(O52,"<=1),""0") -> 1 | R52: 0 | T52: Optimum | U52: Acceptable | V52: Exception | W52: =OFFSET(S52,0,LEFT(O52,1)) -> 0 | AA52: 0. Selection Required | AC52: =COUNTIF(AA52,"<=1),""0") -> 1 | AD52: 0 | AF52: Optimum | AG52: Acceptable | AH52: Exception | AI52: =OFFSET(AE52,0,LEFT(AA52,1)) -> 0
A53: Inlet air conditions | C53: 0. Selection Required | E53: =COUNTIF(C53,"<=1),""0") -> 1 | F53: 0 | H53: Optimum | I53: Acceptable | J53: Exception | K53: =OFFSET(G53,0,LEFT(C53,1)) -> 0 | O53: 0. Selection Required | Q53: =COUNTIF(O53,"<=1),""0") -> 1 | R53: 0 | T53: Optimum | U53: Acceptable | V53: Exception | W53: =OFFSET(S53,0,LEFT(O53,1)) -> 0 | AA53: 0. Selection Required | AC53: =COUNTIF(AA53,"<=1),""0") -> 1 | AD53: 0 | AF53: Optimum | AG53: Acceptable | AH53: Exception | AI53: =OFFSET(AE53,0,LEFT(AA53,1)) -> 0
A54: Air quality | C54: 0. Selection Required | E54: =COUNTIF(C54,"<=1),""0") -> 1 | F54: 0 | H54: Optimum | I54: Acceptable | J54: Exception | K54: =OFFSET(G54,0,LEFT(C54,1)) -> 0 | O54: 0. Selection Required | Q54: =COUNTIF(O54,"<=1),""0") -> 1 | R54: 0 | T54: Optimum | U54: Acceptable | V54: Exception | W54: =OFFSET(S54,0,LEFT(O54,1)) -> 0 | AA54: 0. Selection Required | AC54: =COUNTIF(AA54,"<=1),""0") -> 1 | AD54: 0 | AF54: Optimum | AG54: Acceptable | AH54: Exception | AI54: =OFFSET(AE54,0,LEFT(AA54,1)) -> 0
A55: Temperature rise | C55: 0. Selection Required | E55: =COUNTIF(C55,"<=1),""0") -> 1 | F55: 0 | H55: Optimum | I55: Acceptable | J55: Exception | K55: =OFFSET(G55,0,LEFT(C55,1)) -> 0 | O55: 0. Selection Required | Q55: =COUNTIF(O55,"<=1),""0") -> 1 | R55: 0 | T55: Optimum | U55: Acceptable | V55: Exception | W55: =OFFSET(S55,0,LEFT(O55,1)) -> 0 | AA55: 0. Selection Required | AC55: =COUNTIF(AA55,"<=1),""0") -> 1 | AD55: 0 | AF55: Optimum | AG55: Acceptable | AH55: Exception | AI55: =OFFSET(AE55,0,LEFT(AA55,1)) -> 0
A56: Cabinet blanking of open space | C56: 0. Selection Required | E56: =COUNTIF(C56,"<=1),""0") -> 1 | F56: 0 | H56: Optimum | I56: Acceptable | J56: Exception | K56: =OFFSET(G56,0,LEFT(C56,1)) -> 0 | O56: 0. Selection Required | Q56: =COUNTIF(O56,"<=1),""0") -> 1 | R56: 0 | T56: Optimum | U56: Acceptable | V56: Exception | W56: =OFFSET(S56,0,LEFT(O56,1)) -> 0 | AA56: 0. Selection Required | AC56: =COUNTIF(AA56,"<=1),""0") -> 1 | AD56: 0 | AF56: Optimum | AG56: Acceptable | AH56: Exception | AI56: =OFFSET(AE56,0,LEFT(AA56,1)) -> 0
A57: CABLING
A58: Cabling infrastructure pathways | C58: 0. Selection Required | E58: =COUNTIF(C58,"<=1),""0") -> 1 | F58: 0 | H58: Optimum | I58: Acceptable | J58: Exception | K58: =OFFSET(G58,0,LEFT(C58,1)) -> 0 | O58: 0. Selection Required | Q58: =COUNTIF(O58,"<=1),""0") -> 1 | R58: 0 | T58: Optimum | U58: Acceptable | V58: Exception | W58: =OFFSET(S58,0,LEFT(O58,1)) -> 0 | AA58: 0. Selection Required | AC58: =COUNTIF(AA58,"<=1),""0") -> 1 | AD58: 0 | AF58: Optimum | AG58: Acceptable | AH58: Exception | AI58: =OFFSET(AE58,0,LEFT(AA58,1)) -> 0
A59: Overhead Network Infrastructure containment levels | C59: 0. Selection Required | E59: =COUNTIF(C59,"<=1),""0") -> 1 | F59: 0 | H59: Optimum | I59: Acceptable | J59: Exception | K59: =OFFSET(G59,0,LEFT(C59,1)) -> 0 | O59: 0. Selection Required | Q59: =COUNTIF(O59,"<=1),""0") -> 1 | R59: 0 | T59: Optimum | U59: Acceptable | V59: Exception | W59: =OFFSET(S59,0,LEFT(O59,1)) -> 0 | AA59: 0. Selection Required | AC59: =COUNTIF(AA59,"<=1),""0") -> 1 | AD59: 0 | AF59: Optimum | AG59: Acceptable | AH59: Exception | AI59: =OFFSET(AE59,0,LEFT(AA59,1)) -> 0
A60: Fibre Type (if installed) | C60: 0. Selection Required | E60: =COUNTIF(C60,"<=1),""0") -> 1 | F60: 0 | H60: Optimum | I60: Acceptable | J60: Exception | K60: =OFFSET(G60,0,LEFT(C60,1)) -> 0 | O60: 0. Selection Required | Q60: =COUNTIF(O60,"<=1),""0") -> 1 | R60: 0 | T60: Optimum | U60: Acceptable | V60: Exception | W60: =OFFSET(S60,0,LEFT(O60,1)) -> 0 | AA60: 0. Selection Required | AC60: =COUNTIF(AA60,"<=1),""0") -> 1 | AD60: 0 | AF60: Optimum | AG60: Acceptable | AH60: Exception | AI60: =OFFSET(AE60,0,LEFT(AA60,1)) -> 0
A61: Fibre connection presentation (if installed) | C61: 0. Selection Required | E61: =COUNTIF(C61,"<=1),""0") -> 1 | F61: 0 | H61: Optimum | I61: Acceptable | J61: Exception | K61: =OFFSET(G61,0,LEFT(C61,1)) -> 0 | O61: 0. Selection Required | Q61: =COUNTIF(O61,"<=1),""0") -> 1 | R61: 0 | T61: Optimum | U61: Acceptable | V61: Exception | W61: =OFFSET(S61,0,LEFT(O61,1)) -> 0 | AA61: 0. Selection Required | AC61: =COUNTIF(AA61,"<=1),""0") -> 1 | AD61: 0 | AF61: Optimum | AG61: Acceptable | AH61: Exception | AI61: =OFFSET(AE61,0,LEFT(AA61,1)) -> 0
A62: CONSIDERATIONS (For information only) | C62: Parameter | E62: =SUM(E64:E128) -> 13 | F62: =SUM(F64:F128) -> 0 | K62: Result | M62: Notes | O62: Parameter | AA62: Parameter
A63: SERVICE
A64: Replacement PSU Modules | C64: 0. Selection Required | E64: =COUNTIF(C64,"<=1),""0") -> 1 | F64: 0 | H64: Optimum | I64: Acceptable | J64: Exception | K64: =OFFSET(G64,0,LEFT(C64,1)) -> 0 | O64: 0. Selection Required | Q64: =COUNTIF(O64,"<=1),""0") -> 1 | R64: 0 | T64: Optimum | U64: Acceptable | V64: Exception | W64: =OFFSET(S64,0,LEFT(O64,1)) -> 0 | AA64: 0. Selection Required | AC64: =COUNTIF(AA64,"<=1),""0") -> 1 | AD64: 0 | AF64: Optimum | AG64: Acceptable | AH64: Exception | AI64: =OFFSET(AE64,0,LEFT(AA64,1)) -> 0
A65: Replacement BBU Modules | C65: 0. Selection Required | E65: =COUNTIF(C65,"<=1),""0") -> 1 | F65: 0 | H65: Optimum | I65: Acceptable | J65: Exception | K65: =OFFSET(G65,0,LEFT(C65,1)) -> 0 | O65: 0. Selection Required | Q65: =COUNTIF(O65,"<=1),""0") -> 1 | R65: 0 | T65: Optimum | U65: Acceptable | V65: Exception | W65: =OFFSET(S65,0,LEFT(O65,1)) -> 0 | AA65: 0. Selection Required | AC65: =COUNTIF(AA65,"<=1),""0") -> 1 | AD65: 0 | AF65: Optimum | AG65: Acceptable | AH65: Exception | AI65: =OFFSET(AE65,0,LEFT(AA65,1)) -> 0
A66: Option to monitor PSUs and BBUs | C66: 0. Selection Required | E66: =COUNTIF(C66,"<=1),""0") -> 1 | F66: 0 | H66: Optimum | I66: Acceptable | J66: Exception | K66: =OFFSET(G66,0,LEFT(C66,1)) -> 0 | O66: 0. Selection Required | Q66: =COUNTIF(O66,"<=1),""0") -> 1 | R66: 0 | T66: Optimum | U66: Acceptable | V66: Exception | W66: =OFFSET(S66,0,LEFT(O66,1)) -> 0 | AA66: 0. Selection Required | AC66: =COUNTIF(AA66,"<=1),""0") -> 1 | AD66: 0 | AF66: Optimum | AG66: Acceptable | AH66: Exception | AI66: =OFFSET(AE66,0,LEFT(AA66,1)) -> 0
A67: Remote hands for PSU and BBU replacement or expansion | C67: 0. Selection Required | E67: =COUNTIF(C67,"<=1),""0") -> 1 | F67: 0 | H67: Optimum | I67: Acceptable | J67: Exception | K67: =OFFSET(G67,0,LEFT(C67,1)) -> 0 | O67: 0. Selection Required | Q67: =COUNTIF(O67,"<=1),""0") -> 1 | R67: 0 | T67: Optimum | U67: Acceptable | V67: Exception | W67: =OFFSET(S67,0,LEFT(O67,1)) -> 0 | AA67: 0. Selection Required | AC67: =COUNTIF(AA67,"<=1),""0") -> 1 | AD67: 0 | AF67: Optimum | AG67: Acceptable | AH67: Exception | AI67: =OFFSET(AE67,0,LEFT(AA67,1)) -> 0
A68: Remote hands for OCP IT hardware replacement or expansion | C68: 0. Selection Required | E68: =COUNTIF(C68,"<=1),""0") -> 1 | F68: 0 | H68: Optimum | I68: Acceptable | J68: Exception | K68: =OFFSET(G68,0,LEFT(C68,1)) -> 0 | O68: 0. Selection Required | Q68: =COUNTIF(O68,"<=1),""0") -> 1 | R68: 0 | T68: Optimum | U68: Acceptable | V68: Exception | W68: =OFFSET(S68,0,LEFT(O68,1)) -> 0 | AA68: 0. Selection Required | AC68: =COUNTIF(AA68,"<=1),""0") -> 1 | AD68: 0 | AF68: Optimum | AG68: Acceptable | AH68: Exception | AI68: =OFFSET(AE68,0,LEFT(AA68,1)) -> 0
A69: EFFICIENCY
A70: Site Operations Standards | C70: 0. Selection Required | E70: =COUNTIF(C70,"<=1),""0") -> 1 | F70: 0 | H70: Optimum | I70: Acceptable | J70: Acceptable | K70: =OFFSET(G70,0,LEFT(C70,1)) -> 0 | O70: 0. Selection Required | Q70: =COUNTIF(O70,"<=1),""0") -> 1 | R70: 0 | T70: Optimum | U70: Acceptable | V70: Acceptable | W70: =OFFSET(S70,0,LEFT(O70,1)) -> 0 | AA70: 0. Selection Required | AC70: =COUNTIF(AA70,"<=1),""0") -> 1 | AD70: 0 | AF70: Optimum | AG70: Acceptable | AH70: Acceptable | AI70: =OFFSET(AE70,0,LEFT(AA70,1)) -> 0
A71: Site PUE Monitoring | C71: 0. Selection Required | E71: =COUNTIF(C71,"<=1),""0") -> 1 | F71: 0 | H71: Optimum | I71: Acceptable | J71: Exception | K71: =OFFSET(G71,0,LEFT(C71,1)) -> 0 | O71: 0. Selection Required | Q71: =COUNTIF(O71,"<=1),""0") -> 1 | R71: 0 | T71: Optimum | U71: Acceptable | V71: Exception | W71: =OFFSET(S71,0,LEFT(O71,1)) -> 0 | AA71: 0. Selection Required | AC71: =COUNTIF(AA71,"<=1),""0") -> 1 | AD71: 0 | AF71: Optimum | AG71: Acceptable | AH71: Exception | AI71: =OFFSET(AE71,0,LEFT(AA71,1)) -> 0
A72: Site Design PUE | C72: 0. Selection Required | E72: =COUNTIF(C72,"<=1),""0") -> 1 | F72: 0 | H72: Optimum | I72: Acceptable | J72: Exception | K72: =OFFSET(G72,0,LEFT(C72,1)) -> 0 | O72: 0. Selection Required | Q72: =COUNTIF(O72,"<=1),""0") -> 1 | R72: 0 | T72: Optimum | U72: Acceptable | V72: Exception | W72: =OFFSET(S72,0,LEFT(O72,1)) -> 0 | AA72: 0. Selection Required | AC72: =COUNTIF(AA72,"<=1),""0") -> 1 | AD72: 0 | AF72: Optimum | AG72: Acceptable | AH72: Exception | AI72: =OFFSET(AE72,0,LEFT(AA72,1)) -> 0
A73: Site Annualized PUE Current Achievement | C73: 0. Selection Required | E73: =COUNTIF(C73,"<=1),""0") -> 1 | F73: 0 | H73: Optimum | I73: Acceptable | J73: Exception | K73: =OFFSET(G73,0,LEFT(C73,1)) -> 0 | O73: 0. Selection Required | Q73: =COUNTIF(O73,"<=1),""0") -> 1 | R73: 0 | T73: Optimum | U73: Acceptable | V73: Exception | W73: =OFFSET(S73,0,LEFT(O73,1)) -> 0 | AA73: 0. Selection Required | AC73: =COUNTIF(AA73,"<=1),""0") -> 1 | AD73: 0 | AF73: Optimum | AG73: Acceptable | AH73: Exception | AI73: =OFFSET(AE73,0,LEFT(AA73,1)) -> 0
A74: Site WUE Monitoring | C74: 0. Selection Required | E74: =COUNTIF(C74,"<=1),""0") -> 1 | F74: 0 | H74: Optimum | I74: Acceptable | J74: Exception | K74: =OFFSET(G74,0,LEFT(C74,1)) -> 0 | O74: 0. Selection Required | Q74: =COUNTIF(O74,"<=1),""0") -> 1 | R74: 0 | T74: Optimum | U74: Acceptable | V74: Exception | W74: =OFFSET(S74,0,LEFT(O74,1)) -> 0 | AA74: 0. Selection Required | AC74: =COUNTIF(AA74,"<=1),""0") -> 1 | AD74: 0 | AF74: Optimum | AG74: Acceptable | AH74: Exception | AI74: =OFFSET(AE74,0,LEFT(AA74,1)) -> 0
A75: Site CUE Monitoring | C75: 0. Selection Required | E75: =COUNTIF(C75,"<=1),""0") -> 1 | F75: 0 | H75: Optimum | I75: Acceptable | J75: Exception | K75: =OFFSET(G75,0,LEFT(C75,1)) -> 0 | O75: 0. Selection Required | Q75: =COUNTIF(O75,"<=1),""0") -> 1 | R75: 0 | T75: Optimum | U75: Acceptable | V75: Exception | W75: =OFFSET(S75,0,LEFT(O75,1)) -> 0 | AA75: 0. Selection Required | AC75: =COUNTIF(AA75,"<=1),""0") -> 1 | AD75: 0 | AF75: Optimum | AG75: Acceptable | AH75: Exception | AI75: =OFFSET(AE75,0,LEFT(AA75,1)) -> 0
A76: OPENNESS
A77: PUE Published | C77: 0. Selection Required | E77: =COUNTIF(C77,"<=1),""0") -> 1 | F77: 0 | H77: Optimum | I77: Acceptable | J77: Exception | K77: =OFFSET(G77,0,LEFT(C77,1)) -> 0 | O77: 0. Selection Required | Q77: =COUNTIF(O77,"<=1),""0") -> 1 | R77: 0 | T77: Optimum | U77: Acceptable | V77: Exception | W77: =OFFSET(S77,0,LEFT(O77,1)) -> 0 | AA77: 0. Selection Required | AC77: =COUNTIF(AA77,"<=1),""0") -> 1 | AD77: 0 | AF77: Optimum | AG77: Acceptable | AH77: Exception | AI77: =OFFSET(AE77,0,LEFT(AA77,1)) -> 0
A78: Facility Design Drawings & Files | C78: 0. Selection Required | E78: =COUNTIF(C78,"<=1),""0") -> 1 | F78: 0 | H78: Optimum | I78: Acceptable | J78: Exception | K78: =OFFSET(G78,0,LEFT(C78,1)) -> 0 | O78: 0. Selection Required | Q78: =COUNTIF(O78,"<=1),""0") -> 1 | R78: 0 | T78: Optimum | U78: Acceptable | V78: Exception | W78: =OFFSET(S78,0,LEFT(O78,1)) -> 0 | AA78: 0. Selection Required | AC78: =COUNTIF(AA78,"<=1),""0") -> 1 | AD78: 0 | AF78: Optimum | AG78: Acceptable | AH78: Exception | AI78: =OFFSET(AE78,0,LEFT(AA78,1)) -> 0

Sheet Dropdown
A1: =TEXT(B1,"mm/dd/yyyy") -> 01/17/2023 | B1: =TODAY() -> 44943
A3: Foundation List | B3: PL List
A4: <Approval Needed> | B4: <Approval Needed>
A5: Approved:Steve Helvie, 01/17/2023 | B5: Approved:Bret Lehman, 01/17/2023
A6: Approved:Bijan Nowroozi, 01/17/2023 | B6: Approved:Madhusudan Iyengar , 01/17/2023
B7: Approved:Mark Dansie, 01/17/2023
B8: Approved:Rob Coyle, 01/17/2023
A11: Incubation Committee List
A12: <Approval Needed>
A13: Approved:Justin Steadman, 01/17/2023
B15: Row 15
B16: 0. Selection Required
B17: 1. ≥2.7m (108in) H x ≥2.4m (96in) W x ≥2.4m (96in) D unobstructed access and threshold free
B18: 2. ≥2.7m (108in) H x ≥1.2m (48in) W unobstructed access and threshold free
B19: 2. ≥2.7m (108in) x ≥1.2m (48in) with threshold (notes required)
B20: 2.≥2.3m (90in) H x ≥ .9m (36in) W unobstructed access and threshold free
B21: 2.≥2.3m (90in) H x ≥ .9m (36in) W with threshold (notes required)
B22: 3. <2.3m (90in) H or <.9m (36in) W
B24: Row 16
B25: 0. Selection Required
B26: 1. ≥2.4m (96in) H x ≥1.8m (72in) W unobstructed access and threshold free
B27: 2. ≥2.4m (96in) H x ≥1.8m (72in) W with threshold (notes required)
... B37: 2. <459kg (1012lb) (4.5kN) (notes required)
